BEGIN:VCALENDAR
VERSION:2.0
PRODID:-//hacksw/handcal//NONSGML v1.0//EN
BEGIN:VEVENT
SUMMARY:Passage a BRAM' FM pour presenter le projet
UID:7392ab32-f59c-40d8-8b5f-d112a7d10f5c
DTSTART:20260219T230000Z
DTEND:20260220T230000Z
LOCATION:Localisation   
CATEGORIES:Administratif
STATUS:
URL;VALUE=URI:https://aqua-tulle.sportsregions.fr/evenements/2026/02/20/passage-a-bram-fm-pour-presenter-le-projet-2430510
END:VEVENT
END:VCALENDAR
