BEGIN:VCALENDAR
VERSION:2.0
PRODID:-//hacksw/handcal//NONSGML v1.0//EN
BEGIN:VEVENT
SUMMARY:Passage dans La Montagne du projet
UID:6d417303-5457-48ed-aa39-cb5b039dddd6
DTSTART:20260303T230000Z
DTEND:20260304T230000Z
LOCATION:Localisation   
CATEGORIES:Sportif
STATUS:
URL;VALUE=URI:https://aqua-tulle.sportsregions.fr/evenements/2026/03/04/passage-dans-la-montagne-du-projet-2430512
END:VEVENT
END:VCALENDAR
