BEGIN:VCALENDAR
VERSION:2.0
PRODID:-//hacksw/handcal//NONSGML v1.0//EN
BEGIN:VEVENT
SUMMARY:Passage dans La Vie Correzienne du projet
UID:38f932f7-8625-49a7-abc2-b398ccf7a2ef
DTSTART:20260305T230000Z
DTEND:20260306T230000Z
LOCATION:Localisation   
CATEGORIES:Administratif
STATUS:
URL;VALUE=URI:https://aqua-tulle.sportsregions.fr/evenements/2026/03/06/passage-dans-la-vie-correzienne-du-projet-2430513
END:VEVENT
END:VCALENDAR
