BEGIN:VCALENDAR
VERSION:2.0
PRODID:-//hacksw/handcal//NONSGML v1.0//EN
BEGIN:VEVENT
SUMMARY:Depose statuts a la prefecture
UID:4e3946a9-bcc0-4b2b-91f5-936fa0752e3c
DTSTART:20260322T230000Z
DTEND:20260323T230000Z
LOCATION:Localisation   
CATEGORIES:Administratif
STATUS:
URL;VALUE=URI:https://aqua-tulle.sportsregions.fr/evenements/2026/03/23/depose-statuts-a-la-prefecture-2430501
END:VEVENT
END:VCALENDAR
