BEGIN:VCALENDAR
VERSION:2.0
PRODID:-//hacksw/handcal//NONSGML v1.0//EN
BEGIN:VEVENT
SUMMARY:intervention a ICI Limousin
UID:15e4904f-0362-454b-95d4-d05878ae92a2
DTSTART:20260326T230000Z
DTEND:20260327T230000Z
LOCATION:Localisation   
CATEGORIES:Manifestation
STATUS:
DESCRIPTION:Presentation du club 
URL;VALUE=URI:https://aqua-tulle.sportsregions.fr/evenements/2026/03/27/intervention-a-ici-limousin-2433943
END:VEVENT
END:VCALENDAR
